BEGIN:VCALENDAR
VERSION:2.0
PRODID:-//New Hope Church - ECPv6.15.20//NONSGML v1.0//EN
CALSCALE:GREGORIAN
METHOD:PUBLISH
X-WR-CALNAME:New Hope Church
X-ORIGINAL-URL:https://new-2023.newhope.us
X-WR-CALDESC:Events for New Hope Church
REFRESH-INTERVAL;VALUE=DURATION:PT1H
X-Robots-Tag:noindex
X-PUBLISHED-TTL:PT1H
BEGIN:VTIMEZONE
TZID:America/Halifax
BEGIN:DAYLIGHT
TZOFFSETFROM:-0400
TZOFFSETTO:-0300
TZNAME:ADT
DTSTART:20220313T060000
END:DAYLIGHT
BEGIN:STANDARD
TZOFFSETFROM:-0300
TZOFFSETTO:-0400
TZNAME:AST
DTSTART:20221106T050000
END:STANDARD
BEGIN:DAYLIGHT
TZOFFSETFROM:-0400
TZOFFSETTO:-0300
TZNAME:ADT
DTSTART:20230312T060000
END:DAYLIGHT
BEGIN:STANDARD
TZOFFSETFROM:-0300
TZOFFSETTO:-0400
TZNAME:AST
DTSTART:20231105T050000
END:STANDARD
BEGIN:DAYLIGHT
TZOFFSETFROM:-0400
TZOFFSETTO:-0300
TZNAME:ADT
DTSTART:20240310T060000
END:DAYLIGHT
BEGIN:STANDARD
TZOFFSETFROM:-0300
TZOFFSETTO:-0400
TZNAME:AST
DTSTART:20241103T050000
END:STANDARD
END:VTIMEZONE
BEGIN:VEVENT
DTSTART;TZID=America/Halifax:20230506T200000
DTEND;TZID=America/Halifax:20230506T200000
DTSTAMP:20260419T123507
CREATED:20230410T210048Z
LAST-MODIFIED:20230410T210048Z
UID:3878-1683403200-1683403200@new-2023.newhope.us
SUMMARY:5월 첫열매 기도성회 / First Fruit Prayer Night
DESCRIPTION:
URL:https://new-2023.newhope.us/event/5%ec%9b%94-%ec%b2%ab%ec%97%b4%eb%a7%a4-%ea%b8%b0%eb%8f%84%ec%84%b1%ed%9a%8c-first-fruit-prayer-night-3/
CATEGORIES:첫열매 기도성회 / First Fruit Prayer Night
END:VEVENT
BEGIN:VEVENT
DTSTART;TZID=America/Halifax:20230505T200000
DTEND;TZID=America/Halifax:20230505T200000
DTSTAMP:20260419T123507
CREATED:20230410T210021Z
LAST-MODIFIED:20230410T210021Z
UID:3876-1683316800-1683316800@new-2023.newhope.us
SUMMARY:5월 첫열매 기도성회 / First Fruit Prayer Night
DESCRIPTION:
URL:https://new-2023.newhope.us/event/5%ec%9b%94-%ec%b2%ab%ec%97%b4%eb%a7%a4-%ea%b8%b0%eb%8f%84%ec%84%b1%ed%9a%8c-first-fruit-prayer-night-2/
CATEGORIES:첫열매 기도성회 / First Fruit Prayer Night
END:VEVENT
BEGIN:VEVENT
DTSTART;TZID=America/Halifax:20230504T200000
DTEND;TZID=America/Halifax:20230506T200000
DTSTAMP:20260419T123507
CREATED:20230410T194407Z
LAST-MODIFIED:20230410T210125Z
UID:3849-1683230400-1683403200@new-2023.newhope.us
SUMMARY:5월 첫열매 기도성회 / First Fruit Prayer Night
DESCRIPTION:
URL:https://new-2023.newhope.us/event/5%ec%9b%94-%ec%b2%ab%ec%97%b4%eb%a7%a4-%ea%b8%b0%eb%8f%84%ec%84%b1%ed%9a%8c-first-fruit-prayer-night/
CATEGORIES:첫열매 기도성회 / First Fruit Prayer Night
END:VEVENT
BEGIN:VEVENT
DTSTART;TZID=America/Halifax:20230504T200000
DTEND;TZID=America/Halifax:20230504T200000
DTSTAMP:20260419T123507
CREATED:20230410T205957Z
LAST-MODIFIED:20230410T205957Z
UID:3874-1683230400-1683230400@new-2023.newhope.us
SUMMARY:5월 첫열매 기도성회 / First Fruit Prayer Night
DESCRIPTION:
URL:https://new-2023.newhope.us/event/5%ec%9b%94-%ec%b2%ab%ec%97%b4%eb%a7%a4-%ea%b8%b0%eb%8f%84%ec%84%b1%ed%9a%8c-first-fruit-prayer-night-1/
CATEGORIES:첫열매 기도성회 / First Fruit Prayer Night
END:VEVENT
BEGIN:VEVENT
DTSTART;TZID=America/Halifax:20230406T200000
DTEND;TZID=America/Halifax:20230408T200000
DTSTAMP:20260419T123507
CREATED:20230322T231157Z
LAST-MODIFIED:20230408T140238Z
UID:2435-1680811200-1680984000@new-2023.newhope.us
SUMMARY:4월 첫열매 기도성회 / First Fruit Prayer Night
DESCRIPTION:
URL:https://new-2023.newhope.us/event/4%ec%9b%94-%ec%b2%ab%ec%97%b4%eb%a7%a4-%ea%b8%b0%eb%8f%84%ec%84%b1%ed%9a%8c/
CATEGORIES:첫열매 기도성회 / First Fruit Prayer Night
END:VEVENT
BEGIN:VEVENT
DTSTART;TZID=America/Halifax:20230302T210000
DTEND;TZID=America/Halifax:20230304T210000
DTSTAMP:20260419T123507
CREATED:20230323T000438Z
LAST-MODIFIED:20230410T194524Z
UID:2447-1677790800-1677963600@new-2023.newhope.us
SUMMARY:3월 첫열매 기도성회 / First Fruit Prayer Night
DESCRIPTION:
URL:https://new-2023.newhope.us/event/3%ec%9b%94-%ec%b2%ab%ec%97%b4%eb%a7%a4-%ea%b8%b0%eb%8f%84%ec%84%b1%ed%9a%8c/
CATEGORIES:첫열매 기도성회 / First Fruit Prayer Night
END:VEVENT
END:VCALENDAR